BEGIN:VCALENDAR
VERSION:2.0
PRODID:-//College of Professional Psychology - ECPv5.3.1.1//NONSGML v1.0//EN
CALSCALE:GREGORIAN
METHOD:PUBLISH
X-WR-CALNAME:College of Professional Psychology
X-ORIGINAL-URL:https://copp.edu.au
X-WR-CALDESC:Events for College of Professional Psychology
BEGIN:VTIMEZONE
TZID:UTC
BEGIN:STANDARD
TZOFFSETFROM:+0000
TZOFFSETTO:+0000
TZNAME:UTC
DTSTART:20190101T000000
END:STANDARD
END:VTIMEZONE
BEGIN:VEVENT
DTSTART;TZID=UTC:20190917T110000
DTEND;TZID=UTC:20190917T150000
DTSTAMP:20210228T100919
CREATED:20190529T034402Z
LAST-MODIFIED:20190529T034402Z
UID:1606-1568718000-1568732400@copp.edu.au
SUMMARY:Western Sydney University Psychology Careers Expo
DESCRIPTION:Have you finished a four year degree in psychology… unsure what to do next? \n\n\n\n\nFind all you need to know about your pathway to becoming a registered psychologist in Australia.\nOur programs are practical\, supportive\, and flexible. And you can enrol at any time. \nLawrence Fong\, director of the College\, will walk you through our internship programs talking specifically about: \n\nPlacement: how we support your job seeking efforts by:- reviewing your resume;- offering job search techniques and strategies; and- providing interviewing practice and coaching;\nSupervision: where we provide several Board Approved principal supervisors to mentor\, guide and support you;\nProfessional Development: what our comprehensive workshops and seminars entail in our schedule for 2020;\nAssessment Tasks: where we provide you with assistance in your preparation of all assessment tasks including providing you access to a range of psychometric assessments\, a library of resource material for assessment and exam preparation\, and a range of elective Board Approved practice tests.\n\nWe offer structured internship programs that are designed to meet the requirements of the Psychology Board of Australia 4+2 and 5+1 pathways to registration. \nSee you there.
URL:https://copp.edu.au/event/western-sydney-university-psychology-careers-expo-2/
LOCATION:Kingswood Campus\, Penrith\, NSW\, 2750\, Australia
ATTACH;FMTTYPE=image/jpeg:https://copp.edu.au/wp-content/uploads/IMG_5031.jpg
END:VEVENT
END:VCALENDAR